BEGIN:VCALENDAR
VERSION:2.0
PRODID:-//Bengaluru Sustainability Forum - ECPv6.5.0//NONSGML v1.0//EN
CALSCALE:GREGORIAN
METHOD:PUBLISH
X-WR-CALNAME:Bengaluru Sustainability Forum
X-ORIGINAL-URL:https://www.bengalurusustainabilityforum.org
X-WR-CALDESC:Events for Bengaluru Sustainability Forum
REFRESH-INTERVAL;VALUE=DURATION:PT1H
X-Robots-Tag:noindex
X-PUBLISHED-TTL:PT1H
BEGIN:VTIMEZONE
TZID:Asia/Kolkata
BEGIN:STANDARD
TZOFFSETFROM:+0530
TZOFFSETTO:+0530
TZNAME:IST
DTSTART:20250101T000000
END:STANDARD
END:VTIMEZONE
BEGIN:VEVENT
DTSTART;TZID=Asia/Kolkata:20250524T100000
DTEND;TZID=Asia/Kolkata:20250524T113000
DTSTAMP:20260421T105941
CREATED:20250506T124023Z
LAST-MODIFIED:20250506T124023Z
UID:20533-1748080800-1748086200@www.bengalurusustainabilityforum.org
SUMMARY:Online Tinkering for Children
DESCRIPTION:This hands-on course on repairing\, reusing and recycling will equip children with essential skills where every week children will be exposed to a new discipline of home repairs.
URL:https://www.bengalurusustainabilityforum.org/event/online-tinkering-for-children/2025-05-24/
CATEGORIES:External event,Online Event
ATTACH;FMTTYPE=image/png:https://www.bengalurusustainabilityforum.org/wp-content/uploads/2025/05/Screenshot-59.png
END:VEVENT
BEGIN:VEVENT
DTSTART;TZID=Asia/Kolkata:20250522T153000
DTEND;TZID=Asia/Kolkata:20250522T170000
DTSTAMP:20260421T105941
CREATED:20250520T131321Z
LAST-MODIFIED:20250520T131321Z
UID:26285-1747927800-1747933200@www.bengalurusustainabilityforum.org
SUMMARY:Adivasi women's ecological rights in Madhya Pradesh
DESCRIPTION:The talk will focus on the case of Panna vis-à-vis gender and women’s rights at the intersection of FRA\, conservation policies and extractivism.
URL:https://www.bengalurusustainabilityforum.org/event/adivasi-womens-ecological-rights-in-madhya-pradesh/
LOCATION:ATREE Auditorium & Online
CATEGORIES:External event,Hybrid Event
ATTACH;FMTTYPE=image/jpeg:https://www.bengalurusustainabilityforum.org/wp-content/uploads/2025/05/WhatsApp-Image-2025-05-20-at-18.12.13_9faaca6c.jpg
END:VEVENT
BEGIN:VEVENT
DTSTART;TZID=Asia/Kolkata:20250522T150000
DTEND;TZID=Asia/Kolkata:20250522T163000
DTSTAMP:20260421T105941
CREATED:20250506T130842Z
LAST-MODIFIED:20250506T130842Z
UID:20543-1747926000-1747931400@www.bengalurusustainabilityforum.org
SUMMARY:VendSights: An insights brief on behavioural and systemic challenges and opportunities to enable Vendor-Inclusive Urban Streets (VIUS) in India
DESCRIPTION:In this webinar\, Auom Impact & Consulting of Insomanywords will be launching their ethnographic study titled ‘VendSights: An insights brief on behavioural and systemic challenges and opportunities to enable Vendor-Inclusive Urban Streets (VIUS) in India.’. This report will be launched under the Creative Commons Licence.
URL:https://www.bengalurusustainabilityforum.org/event/vendsights-an-insights-brief-on-behavioural-and-systemic-challenges-and-opportunities-to-enable-vendor-inclusive-urban-streets-vius-in-india/
CATEGORIES:External event,Online Event
END:VEVENT
BEGIN:VEVENT
DTSTART;TZID=Asia/Kolkata:20250521T180000
DTEND;TZID=Asia/Kolkata:20250521T203000
DTSTAMP:20260421T105941
CREATED:20250520T131132Z
LAST-MODIFIED:20250520T131132Z
UID:26282-1747850400-1747859400@www.bengalurusustainabilityforum.org
SUMMARY:The Wild Balance - Pint of Science
DESCRIPTION:This series of talks will gauge different themes around the natural world – from everyday lifestyle choices that affect our environment to the effect of novel man-made ecosystems on forest and grassland birds in the Western Ghats\, and even the fascinating role of fungi in our daily lives.
URL:https://www.bengalurusustainabilityforum.org/event/the-wild-balance-pint-of-science/
CATEGORIES:External event,In-person Event
ATTACH;FMTTYPE=image/png:https://www.bengalurusustainabilityforum.org/wp-content/uploads/2025/05/Screenshot-72.png
END:VEVENT
BEGIN:VEVENT
DTSTART;TZID=Asia/Kolkata:20250521T150000
DTEND;TZID=Asia/Kolkata:20250521T180000
DTSTAMP:20260421T105941
CREATED:20250520T125045Z
LAST-MODIFIED:20250520T125045Z
UID:26272-1747839600-1747850400@www.bengalurusustainabilityforum.org
SUMMARY:Together We Enable
DESCRIPTION:This 3-hour interactive session by @purpose India in collaboration with Auom Impact and Consulting @auombyinsomanywords will feature stories from the field\, hands-on dialogue\, creative activities and shared reflections on how art can centre community voices\, shift narratives\, and build trust in the process of social change.
URL:https://www.bengalurusustainabilityforum.org/event/together-we-enable/
LOCATION:bangalore design centre\, Cobalt\, 6th\, 46/1\, Church St\, Haridevpur\, Shanthala Nagar\, Ashok Nagar\, bangalore\, Karnataka\, India
CATEGORIES:External event,In-person Event
ATTACH;FMTTYPE=image/png:https://www.bengalurusustainabilityforum.org/wp-content/uploads/2025/05/PASI-EventInvite-1.png
ORGANIZER;CN="Auom Impact & Consulting":MAILTO:sri@insomanywords.space
END:VEVENT
BEGIN:VEVENT
DTSTART;TZID=Asia/Kolkata:20250520T100000
DTEND;TZID=Asia/Kolkata:20250520T113000
DTSTAMP:20260421T105941
CREATED:20250506T124023Z
LAST-MODIFIED:20250506T124023Z
UID:20532-1747735200-1747740600@www.bengalurusustainabilityforum.org
SUMMARY:Online Tinkering for Children
DESCRIPTION:This hands-on course on repairing\, reusing and recycling will equip children with essential skills where every week children will be exposed to a new discipline of home repairs.
URL:https://www.bengalurusustainabilityforum.org/event/online-tinkering-for-children/2025-05-20/
CATEGORIES:External event,Online Event
ATTACH;FMTTYPE=image/png:https://www.bengalurusustainabilityforum.org/wp-content/uploads/2025/05/Screenshot-59.png
END:VEVENT
BEGIN:VEVENT
DTSTART;TZID=Asia/Kolkata:20250517T160000
DTEND;TZID=Asia/Kolkata:20250517T200000
DTSTAMP:20260421T105941
CREATED:20250408T135852Z
LAST-MODIFIED:20250408T135852Z
UID:13298-1747497600-1747512000@www.bengalurusustainabilityforum.org
SUMMARY:Clean up drive on IPL match days
DESCRIPTION:
URL:https://www.bengalurusustainabilityforum.org/event/clean-up-drive-on-ipl-match-days/2025-05-17/
LOCATION:Chinnaswamy Stadium
CATEGORIES:In-person Event
ORGANIZER;CN="Saahas":MAILTO:sneha@saahas.org
END:VEVENT
BEGIN:VEVENT
DTSTART;TZID=Asia/Kolkata:20250517T100000
DTEND;TZID=Asia/Kolkata:20250517T113000
DTSTAMP:20260421T105941
CREATED:20250506T124023Z
LAST-MODIFIED:20250506T124023Z
UID:20531-1747476000-1747481400@www.bengalurusustainabilityforum.org
SUMMARY:Online Tinkering for Children
DESCRIPTION:This hands-on course on repairing\, reusing and recycling will equip children with essential skills where every week children will be exposed to a new discipline of home repairs.
URL:https://www.bengalurusustainabilityforum.org/event/online-tinkering-for-children/2025-05-17/
CATEGORIES:External event,Online Event
ATTACH;FMTTYPE=image/png:https://www.bengalurusustainabilityforum.org/wp-content/uploads/2025/05/Screenshot-59.png
END:VEVENT
BEGIN:VEVENT
DTSTART;TZID=Asia/Kolkata:20250515T183000
DTEND;TZID=Asia/Kolkata:20250515T183000
DTSTAMP:20260421T105941
CREATED:20250506T130601Z
LAST-MODIFIED:20250506T130601Z
UID:20541-1747333800-1747333800@www.bengalurusustainabilityforum.org
SUMMARY:Slow Textiles
DESCRIPTION:Hosted as a collaboration between Repair Cafe Collective India and The Maintainers to explore the making and maintaining of Ajrakh and Linen – through the lens of two traditions and places.
URL:https://www.bengalurusustainabilityforum.org/event/slow-textiles/
CATEGORIES:External event,Online Event
ATTACH;FMTTYPE=image/png:https://www.bengalurusustainabilityforum.org/wp-content/uploads/2025/05/Brown-and-Black-Classic-Photo-Fashion-Stylist-Seminar-Poster-1-424x600-1.png
END:VEVENT
BEGIN:VEVENT
DTSTART;TZID=Asia/Kolkata:20250513T160000
DTEND;TZID=Asia/Kolkata:20250513T200000
DTSTAMP:20260421T105941
CREATED:20250408T135852Z
LAST-MODIFIED:20250408T135852Z
UID:13297-1747152000-1747166400@www.bengalurusustainabilityforum.org
SUMMARY:Clean up drive on IPL match days
DESCRIPTION:
URL:https://www.bengalurusustainabilityforum.org/event/clean-up-drive-on-ipl-match-days/2025-05-13/
LOCATION:Chinnaswamy Stadium
CATEGORIES:In-person Event
ORGANIZER;CN="Saahas":MAILTO:sneha@saahas.org
END:VEVENT
BEGIN:VEVENT
DTSTART;TZID=Asia/Kolkata:20250513T100000
DTEND;TZID=Asia/Kolkata:20250513T113000
DTSTAMP:20260421T105941
CREATED:20250506T124023Z
LAST-MODIFIED:20250506T124023Z
UID:20530-1747130400-1747135800@www.bengalurusustainabilityforum.org
SUMMARY:Online Tinkering for Children
DESCRIPTION:This hands-on course on repairing\, reusing and recycling will equip children with essential skills where every week children will be exposed to a new discipline of home repairs.
URL:https://www.bengalurusustainabilityforum.org/event/online-tinkering-for-children/2025-05-13/
CATEGORIES:External event,Online Event
ATTACH;FMTTYPE=image/png:https://www.bengalurusustainabilityforum.org/wp-content/uploads/2025/05/Screenshot-59.png
END:VEVENT
BEGIN:VEVENT
DTSTART;TZID=Asia/Kolkata:20250511T160000
DTEND;TZID=Asia/Kolkata:20250511T180000
DTSTAMP:20260421T105941
CREATED:20250506T125940Z
LAST-MODIFIED:20250506T125940Z
UID:20538-1746979200-1746986400@www.bengalurusustainabilityforum.org
SUMMARY:The Untold Story of Grass
DESCRIPTION:In this talk Dr Mahesh Sankaran will explore how the evolution of grasses has transformed the Earth in unprecedented ways and the impact they have on our lives in ways we don’t realise.
URL:https://www.bengalurusustainabilityforum.org/event/the-untold-story-of-grass/
LOCATION:Science Gallery\, Bellary Road\, Sanjaynagar\, Bengaluru- 560024
CATEGORIES:External event,In-person Event
ATTACH;FMTTYPE=image/jpeg:https://www.bengalurusustainabilityforum.org/wp-content/uploads/2025/05/1746366353113.jpeg
END:VEVENT
BEGIN:VEVENT
DTSTART;TZID=Asia/Kolkata:20250511T090000
DTEND;TZID=Asia/Kolkata:20250511T140000
DTSTAMP:20260421T105941
CREATED:20250506T122801Z
LAST-MODIFIED:20250506T122801Z
UID:20525-1746954000-1746972000@www.bengalurusustainabilityforum.org
SUMMARY:Graffiti For Good
DESCRIPTION:Sustainable Sundays in collaboration with Sustera Foundation & Connect For is organising this graffiti painting event open to everyone open to let out their creativity in meaningful ways. \nNote : Colors\, brushes and all other equipment\, snacks will be provided.
URL:https://www.bengalurusustainabilityforum.org/event/graffiti-for-good/2025-05-11/
LOCATION:Jayamahal Palace
CATEGORIES:External event,In-person Event
END:VEVENT
BEGIN:VEVENT
DTSTART;TZID=Asia/Kolkata:20250510T100000
DTEND;TZID=Asia/Kolkata:20250510T113000
DTSTAMP:20260421T105941
CREATED:20250506T124023Z
LAST-MODIFIED:20250506T124023Z
UID:20526-1746871200-1746876600@www.bengalurusustainabilityforum.org
SUMMARY:Online Tinkering for Children
DESCRIPTION:This hands-on course on repairing\, reusing and recycling will equip children with essential skills where every week children will be exposed to a new discipline of home repairs.
URL:https://www.bengalurusustainabilityforum.org/event/online-tinkering-for-children/2025-05-10/
CATEGORIES:External event,Online Event
ATTACH;FMTTYPE=image/png:https://www.bengalurusustainabilityforum.org/wp-content/uploads/2025/05/Screenshot-59.png
END:VEVENT
BEGIN:VEVENT
DTSTART;TZID=Asia/Kolkata:20250510T090000
DTEND;TZID=Asia/Kolkata:20250510T140000
DTSTAMP:20260421T105941
CREATED:20250506T122801Z
LAST-MODIFIED:20250506T122801Z
UID:20519-1746867600-1746885600@www.bengalurusustainabilityforum.org
SUMMARY:Graffiti For Good
DESCRIPTION:Sustainable Sundays in collaboration with Sustera Foundation & Connect For is organising this graffiti painting event open to everyone open to let out their creativity in meaningful ways. \nNote : Colors\, brushes and all other equipment\, snacks will be provided.
URL:https://www.bengalurusustainabilityforum.org/event/graffiti-for-good/2025-05-10/
LOCATION:Jayamahal Palace
CATEGORIES:External event,In-person Event
END:VEVENT
BEGIN:VEVENT
DTSTART;TZID=Asia/Kolkata:20250503T160000
DTEND;TZID=Asia/Kolkata:20250503T200000
DTSTAMP:20260421T105941
CREATED:20250408T135852Z
LAST-MODIFIED:20250408T135852Z
UID:13296-1746288000-1746302400@www.bengalurusustainabilityforum.org
SUMMARY:Clean up drive on IPL match days
DESCRIPTION:
URL:https://www.bengalurusustainabilityforum.org/event/clean-up-drive-on-ipl-match-days/2025-05-03/
LOCATION:Chinnaswamy Stadium
CATEGORIES:In-person Event
ORGANIZER;CN="Saahas":MAILTO:sneha@saahas.org
END:VEVENT
BEGIN:VEVENT
DTSTART;TZID=Asia/Kolkata:20250430T000000
DTEND;TZID=Asia/Kolkata:20250430T000000
DTSTAMP:20260421T105941
CREATED:20250422T113138Z
LAST-MODIFIED:20250422T113138Z
UID:13422-1745971200-1745971200@www.bengalurusustainabilityforum.org
SUMMARY:Internship with Nature Classrooms
DESCRIPTION:Nature Classrooms is looking for an intern to support their on-going project on developing an assessment framework for nature learning initiatives.
URL:https://www.bengalurusustainabilityforum.org/event/internship-with-nature-classrooms/
LOCATION:Nature Classrooms\, No. 361 'Hari Hara'\, 5th Main Road\, 1st Cross Road\, Kodigehalli\, Bangalore\, Karnataka\, 560097\, India
CATEGORIES:External event,In-person Event
ATTACH;FMTTYPE=image/png:https://www.bengalurusustainabilityforum.org/wp-content/uploads/2025/04/Screenshot-52.png
END:VEVENT
BEGIN:VEVENT
DTSTART;TZID=Asia/Kolkata:20250427T110000
DTEND;TZID=Asia/Kolkata:20250427T130000
DTSTAMP:20260421T105941
CREATED:20250422T110848Z
LAST-MODIFIED:20250422T110848Z
UID:13415-1745751600-1745758800@www.bengalurusustainabilityforum.org
SUMMARY:Future Bengaluru : Designing a People-Centric Sustainable City
DESCRIPTION:This hands-on workshop participants will create 3D models of the city\, integrating sustainable and inclusive architecture\, solutions for transport and smart urban design
URL:https://www.bengalurusustainabilityforum.org/event/future-bengaluru-designing-a-people-centric-sustainable-city/
LOCATION:Science Gallery\, Bellary Road\, Sanjaynagar\, Bengaluru- 560024
CATEGORIES:External event,In-person Event
ATTACH;FMTTYPE=image/jpeg:https://www.bengalurusustainabilityforum.org/wp-content/uploads/2025/04/491006934_1907770166651790_8134950426321313244_n.jpg
END:VEVENT
BEGIN:VEVENT
DTSTART;TZID=Asia/Kolkata:20250427T093000
DTEND;TZID=Asia/Kolkata:20250427T130000
DTSTAMP:20260421T105941
CREATED:20250422T111505Z
LAST-MODIFIED:20250422T111505Z
UID:13417-1745746200-1745758800@www.bengalurusustainabilityforum.org
SUMMARY:Climate Matters
DESCRIPTION:This workshop will engage participants in interactive activities and discussions on climate action while allowing them to enhance their German language skills.
URL:https://www.bengalurusustainabilityforum.org/event/climate-matters/
LOCATION:Goeth Institut\, 716\, Chinmaya Mission Hospital Rd\, First Stage\, Defence Colony\, Indiranagar\, Bengaluru\, Karnataka\, 560038\, India
CATEGORIES:External event,In-person Event
ATTACH;FMTTYPE=image/png:https://www.bengalurusustainabilityforum.org/wp-content/uploads/2025/04/Screenshot-51.png
END:VEVENT
BEGIN:VEVENT
DTSTART;TZID=Asia/Kolkata:20250427T080000
DTEND;TZID=Asia/Kolkata:20250427T103000
DTSTAMP:20260421T105941
CREATED:20250408T141046Z
LAST-MODIFIED:20250408T141046Z
UID:13307-1745740800-1745749800@www.bengalurusustainabilityforum.org
SUMMARY:Bangalore Local Walks
DESCRIPTION:Curated by Sriram Aravamudan \nRegister at: https://docs.google.com/forms/d/e/1FAIpQLSdsoCdy66a4Kwuz1yPtLlgVttXPYg2RnxFNkZyQENUnYF6mJA/viewform
URL:https://www.bengalurusustainabilityforum.org/event/bangalore-local-walks/2025-04-27/
CATEGORIES:In-person Event
END:VEVENT
BEGIN:VEVENT
DTSTART;TZID=Asia/Kolkata:20250426T110000
DTEND;TZID=Asia/Kolkata:20250426T140000
DTSTAMP:20260421T105941
CREATED:20250422T093050Z
LAST-MODIFIED:20250422T093050Z
UID:13389-1745665200-1745676000@www.bengalurusustainabilityforum.org
SUMMARY:Bengaluru Climate Party - 8th Edition
DESCRIPTION:The Climate Party\, in partnership with MOD foundation is hosting a gathering on decoding the Bengaluru Climate Action Plan (BCAP). This exclusive gathering will offer participants insights into the city’s local climate action goals\, strategies behind the BCAP’s mitigation and adaptation efforts and much more.
URL:https://www.bengalurusustainabilityforum.org/event/bengaluru-climate-party-8th-edition/
LOCATION:bangalore design centre\, Cobalt\, 6th\, 46/1\, Church St\, Haridevpur\, Shanthala Nagar\, Ashok Nagar\, bangalore\, Karnataka\, India
CATEGORIES:External event,In-person Event
ATTACH;FMTTYPE=image/jpeg:https://www.bengalurusustainabilityforum.org/wp-content/uploads/2025/04/1744428288094.jpg
ORGANIZER;CN="The Climate Party":MAILTO:theclimatepartyofficial@gmail.com
END:VEVENT
BEGIN:VEVENT
DTSTART;TZID=Asia/Kolkata:20250426T100000
DTEND;TZID=Asia/Kolkata:20250426T140000
DTSTAMP:20260421T105941
CREATED:20250422T093937Z
LAST-MODIFIED:20250422T094722Z
UID:13394-1745661600-1745676000@www.bengalurusustainabilityforum.org
SUMMARY:Mend in Public - Fashion Revolution Week
DESCRIPTION:As part of their annual campaign\, Fashion Revolution India is collaborating with Eco Dhaaga to organise the Mend in Public day. Participants will be part of a movement against overconsumption\, extend the life of their apparel and be part of a global community for change.
URL:https://www.bengalurusustainabilityforum.org/event/https-www-fashionrevolution-org-mend-in-public-day-textthe-next-mend-in-publicin-protest-against-disposable-fashion/
LOCATION:Cubbon Park
CATEGORIES:External event,In-person Event
ATTACH;FMTTYPE=image/jpeg:https://www.bengalurusustainabilityforum.org/wp-content/uploads/2025/04/490983081_1969386187213040_5338573782586248026_n.jpg
END:VEVENT
BEGIN:VEVENT
DTSTART;TZID=Asia/Kolkata:20250426T073000
DTEND;TZID=Asia/Kolkata:20250426T090000
DTSTAMP:20260421T105941
CREATED:20250422T110414Z
LAST-MODIFIED:20250422T110414Z
UID:13411-1745652600-1745658000@www.bengalurusustainabilityforum.org
SUMMARY:Connecting with Nature
DESCRIPTION:This nature session will encourage participants to fully use their senses\, tap into their creativity and hone their skills of reflection.
URL:https://www.bengalurusustainabilityforum.org/event/connecting-with-nature/
LOCATION:Alliance Francaise Bengaluru
CATEGORIES:External event,In-person Event
ATTACH;FMTTYPE=image/png:https://www.bengalurusustainabilityforum.org/wp-content/uploads/2025/04/Screenshot-50.png
END:VEVENT
BEGIN:VEVENT
DTSTART;TZID=Asia/Kolkata:20250425T154500
DTEND;TZID=Asia/Kolkata:20250425T170000
DTSTAMP:20260421T105941
CREATED:20250422T094929Z
LAST-MODIFIED:20250422T094929Z
UID:13408-1745595900-1745600400@www.bengalurusustainabilityforum.org
SUMMARY:Dignity – a core challenge of just sustainable futures
DESCRIPTION:In this talk the speaker will be sharing insights from his journey of working to end the inhuman practice of manual scavenging in India\, his advocacy for human rights and his vision for a just\, inclusive and sustainable future.
URL:https://www.bengalurusustainabilityforum.org/event/dignity-a-core-challenge-of-just-sustainable-futures/
LOCATION:ATREE Auditorium\, Bengaluru
CATEGORIES:External event,In-person Event
ATTACH;FMTTYPE=image/png:https://www.bengalurusustainabilityforum.org/wp-content/uploads/2025/04/Screenshot-41.png
END:VEVENT
BEGIN:VEVENT
DTSTART;TZID=Asia/Kolkata:20250424T160000
DTEND;TZID=Asia/Kolkata:20250424T200000
DTSTAMP:20260421T105941
CREATED:20250408T135852Z
LAST-MODIFIED:20250408T135852Z
UID:13295-1745510400-1745524800@www.bengalurusustainabilityforum.org
SUMMARY:Clean up drive on IPL match days
DESCRIPTION:
URL:https://www.bengalurusustainabilityforum.org/event/clean-up-drive-on-ipl-match-days/2025-04-24/
LOCATION:Chinnaswamy Stadium
CATEGORIES:In-person Event
ORGANIZER;CN="Saahas":MAILTO:sneha@saahas.org
END:VEVENT
BEGIN:VEVENT
DTSTART;TZID=Asia/Kolkata:20250424T100000
DTEND;TZID=Asia/Kolkata:20250424T133000
DTSTAMP:20260421T105941
CREATED:20250421T130514Z
LAST-MODIFIED:20250421T130514Z
UID:13386-1745488800-1745501400@www.bengalurusustainabilityforum.org
SUMMARY:A dialogue on charting low carbon pathways in Karnataka
DESCRIPTION:CSTEP is organising this event to lead a discussion on their Namma SAFARI model present decarbonisation pathways for key sectors\, including agriculture\, power\, industry\, transport\, buildings\, forestry\, and land use.
URL:https://www.bengalurusustainabilityforum.org/event/a-dialogue-on-charting-low-carbon-pathways-in-karnataka/
LOCATION:Bangalore International Centre\, 7\, 4th Main Rd\, Stage 2\, Domlur\, Bengaluru\, Karnataka 560071
CATEGORIES:External event,In-person Event
ATTACH;FMTTYPE=image/jpeg:https://www.bengalurusustainabilityforum.org/wp-content/uploads/2025/04/1744805583382.jpg
END:VEVENT
BEGIN:VEVENT
DTSTART;TZID=Asia/Kolkata:20250420T080000
DTEND;TZID=Asia/Kolkata:20250420T103000
DTSTAMP:20260421T105941
CREATED:20250408T141046Z
LAST-MODIFIED:20250408T141046Z
UID:13306-1745136000-1745145000@www.bengalurusustainabilityforum.org
SUMMARY:Bangalore Local Walks
DESCRIPTION:Curated by Sriram Aravamudan \nRegister at: https://docs.google.com/forms/d/e/1FAIpQLSdsoCdy66a4Kwuz1yPtLlgVttXPYg2RnxFNkZyQENUnYF6mJA/viewform
URL:https://www.bengalurusustainabilityforum.org/event/bangalore-local-walks/2025-04-20/
CATEGORIES:In-person Event
END:VEVENT
BEGIN:VEVENT
DTSTART;TZID=Asia/Kolkata:20250418T160000
DTEND;TZID=Asia/Kolkata:20250418T200000
DTSTAMP:20260421T105941
CREATED:20250408T135852Z
LAST-MODIFIED:20250408T135852Z
UID:13294-1744992000-1745006400@www.bengalurusustainabilityforum.org
SUMMARY:Clean up drive on IPL match days
DESCRIPTION:
URL:https://www.bengalurusustainabilityforum.org/event/clean-up-drive-on-ipl-match-days/2025-04-18/
LOCATION:Chinnaswamy Stadium
CATEGORIES:In-person Event
ORGANIZER;CN="Saahas":MAILTO:sneha@saahas.org
END:VEVENT
BEGIN:VEVENT
DTSTART;TZID=Asia/Kolkata:20250417T100000
DTEND;TZID=Asia/Kolkata:20250417T180000
DTSTAMP:20260421T105941
CREATED:20250416T085906Z
LAST-MODIFIED:20250416T090053Z
UID:13372-1744884000-1744912800@www.bengalurusustainabilityforum.org
SUMMARY:Drop Talk: Redefining Water Conversations
DESCRIPTION:
URL:https://www.bengalurusustainabilityforum.org/event/13368/2025-04-17/
LOCATION:Bangalore International Centre\, 7\, 4th Main Rd\, Stage 2\, Domlur\, Bengaluru\, Karnataka 560071
CATEGORIES:External event,In-person Event
END:VEVENT
BEGIN:VEVENT
DTSTART;VALUE=DATE:20250417
DTEND;VALUE=DATE:20250418
DTSTAMP:20260421T105941
CREATED:20250408T134855Z
LAST-MODIFIED:20250408T134855Z
UID:13283-1744848000-1744934399@www.bengalurusustainabilityforum.org
SUMMARY:Duty of Care - The Climate Trails Screening (ALT EFF Film Club Season 2 - First Edition)
DESCRIPTION:More details at : https://www.alteff.in/film-club
URL:https://www.bengalurusustainabilityforum.org/event/duty-of-care-the-climate-trails-screening-alt-eff-film-club-season-2-first-edition/
LOCATION:Medai – The Stage
CATEGORIES:In-person Event
END:VEVENT
END:VCALENDAR