BEGIN:VCALENDAR
VERSION:2.0
PRODID:-//Bengaluru Sustainability Forum - ECPv6.5.0//NONSGML v1.0//EN
CALSCALE:GREGORIAN
METHOD:PUBLISH
X-ORIGINAL-URL:https://www.bengalurusustainabilityforum.org
X-WR-CALDESC:Events for Bengaluru Sustainability Forum
REFRESH-INTERVAL;VALUE=DURATION:PT1H
X-Robots-Tag:noindex
X-PUBLISHED-TTL:PT1H
BEGIN:VTIMEZONE
TZID:Asia/Kolkata
BEGIN:STANDARD
TZOFFSETFROM:+0530
TZOFFSETTO:+0530
TZNAME:IST
DTSTART:20240101T000000
END:STANDARD
END:VTIMEZONE
BEGIN:VEVENT
DTSTART;TZID=Asia/Kolkata:20241001T080000
DTEND;TZID=Asia/Kolkata:20241001T170000
DTSTAMP:20260424T013818
CREATED:20241001T034637Z
LAST-MODIFIED:20241001T035357Z
UID:11404-1727769600-1727802000@www.bengalurusustainabilityforum.org
SUMMARY:Policy-push towards feasibility of Nature based Solutions for cities ~ by IIHS
DESCRIPTION:Nature-based Solutions are defined by IUCN as – “Actions to protect\, manage and restore natural or modified ecosystems\, which address societal challenges\, effectively and adaptively\, providing human well-being and biodiversity benefits“. \nThis webinar by the School of Environment and Sustainability\, IIHS aims to discuss what policies should be implemented and supported to enable healthier city ecosystems. The webinar will shed light on problems that the city ecosystem faces – nature based solutions that can be implemented to overcome them. \nREGISTER NOW! \nThis webinar is supported by the Agence Francaise de Developpement funded project – “Greening Urban Food Systems – Building sustainable urban agriculture practices in Bengaluru through nature-based solutions”.
URL:https://www.bengalurusustainabilityforum.org/event/policy-push-towards-feasibility-of-nature-based-solutions-for-cities-by-iihs/
LOCATION:Zoom Webinar
CATEGORIES:External event,Online Event,Partner Organisation Event
ATTACH;FMTTYPE=image/png:https://www.bengalurusustainabilityforum.org/wp-content/uploads/2024/10/Screenshot-2024-10-01-at-09.18.07.png
END:VEVENT
BEGIN:VEVENT
DTSTART;TZID=Asia/Kolkata:20241003T110000
DTEND;TZID=Asia/Kolkata:20241004T130000
DTSTAMP:20260424T013818
CREATED:20240914T095817Z
LAST-MODIFIED:20240914T095920Z
UID:11180-1727953200-1728046800@www.bengalurusustainabilityforum.org
SUMMARY:A Cloud called Bhura ~ Champaca Bookstore
DESCRIPTION:Give your child an opportunity to dive deep into the world of A CLOUD CALLED BHURA while exploring critical issues like climate change and child activism. This engaging 3 day program combines literary exploration with life skills development\, including critical thinking\, social consciousness\, and self-awareness.\nPlease ensure your child reads the book before the workshop to fully benefit from the experience.\nHighlights:\n📚 In-depth discussions on characters\, storylines\, and themes\n🌍 Critical engagement with topics like climate change and activism\n🎨 Creative expression: On Day 3\, every child will present their unique interpretation of the book in a medium of their choice (art\, writing\, drama\, etc.) \n\nDate – 3rd\, 4th and 6th October 2024\nTime – 11 AM to 1 PM\n8-12 year old\n\nContact +917022063824/ +919353608989 for more details
URL:https://www.bengalurusustainabilityforum.org/event/a-cloud-called-bhura-champaca-bookstore/
LOCATION:Champaca Bookstore 7/1 Edward Road\, Champaca Bookstore\, Bengaluru\, India
CATEGORIES:External event,In-person Event
ATTACH;FMTTYPE=image/webp:https://www.bengalurusustainabilityforum.org/wp-content/uploads/2024/09/Champaca_3_day_program_V4_480x480.webp
END:VEVENT
BEGIN:VEVENT
DTSTART;TZID=Asia/Kolkata:20241004T170000
DTEND;TZID=Asia/Kolkata:20241004T173000
DTSTAMP:20260424T013818
CREATED:20241003T054942Z
LAST-MODIFIED:20241003T055825Z
UID:11436-1728061200-1728063000@www.bengalurusustainabilityforum.org
SUMMARY:Fun and Free Quiz on Wildlife celebrating National Wildlife Week
DESCRIPTION:Celebrate National Wildlife Week with a fun quiz on Indian wildlife.\nJoin using the Zoom link  on 4th Oct at 5 pm to answer some Qs and share some trivia about our fellow inhabitants.\nDon’t forget you can be on the Quiz House weekly leaderboard and may win the Oct quiz by being a regular at their quiz! \nZOOM LINK TO JOIN 
URL:https://www.bengalurusustainabilityforum.org/event/fun-and-free-quiz-on-wildlife-celebrating-national-wildlife-week/
LOCATION:Zoom Webinar
CATEGORIES:External event,Online Event
ATTACH;FMTTYPE=image/png:https://www.bengalurusustainabilityforum.org/wp-content/uploads/2024/10/Wildlife-Quiz-by-Quiz-House-Ashwin-Subramanian.png
END:VEVENT
BEGIN:VEVENT
DTSTART;TZID=Asia/Kolkata:20241006T073000
DTEND;TZID=Asia/Kolkata:20241006T093000
DTSTAMP:20260424T013818
CREATED:20241004T035710Z
LAST-MODIFIED:20241004T035710Z
UID:11453-1728199800-1728207000@www.bengalurusustainabilityforum.org
SUMMARY:The Koramangala Trail ~ KoraWalks
DESCRIPTION:Join this walk by KoraWalks to explore the wonderful delights that Koramangala holds for all of us. Let’s celebrate the beauty of the natural world found on our very urban streets and learn the amazing history behind this charming neighbourhood. \nREGISTER NOW!
URL:https://www.bengalurusustainabilityforum.org/event/the-koramangala-trail-korawalks/
LOCATION:Koramangala Veeryodhara Park\, Bengaluru\, India
CATEGORIES:External event,In-person Event
ATTACH;FMTTYPE=image/jpeg:https://www.bengalurusustainabilityforum.org/wp-content/uploads/2024/10/Kora-Trail-Febin-Sagir.jpg
ORGANIZER;CN="Korawalks":MAILTO:korawalks@gmail.com
END:VEVENT
BEGIN:VEVENT
DTSTART;TZID=Asia/Kolkata:20241012T143000
DTEND;TZID=Asia/Kolkata:20241012T163000
DTSTAMP:20260424T013818
CREATED:20241007T054458Z
LAST-MODIFIED:20241007T054458Z
UID:11494-1728743400-1728750600@www.bengalurusustainabilityforum.org
SUMMARY:Spatial Data for Civic Engagement ~ Science Gallery Bengaluru
DESCRIPTION:In today’s data-driven world\, geospatial technologies are transforming how citizens engage with public issues. How then can we use publicly available data to promote transparency\, inform decision-making\, and empower citizens and communities to actively contribute to governance?\nIn this workshop organised by the Science Gallery Bengaluru\, Indian Institute for Human Settlements (IIHS) Geospatial Lab will train participants on how to access and use freely available geospatial tools to visualise local issues\, enhance public awareness\, and contribute to civic initiatives. Whether you’re a tech enthusiast\, a student\, or a concerned citizen\, this session will provide you with practical skills to harness the potential of digital mapping for public good. \nParticipants are required to bring their own laptops for this event. \nREGISTER NOW!
URL:https://www.bengalurusustainabilityforum.org/event/spatial-data-for-civic-engagement-science-gallery-bengaluru/
LOCATION:Science Gallery\, Bellary Road\, Sanjaynagar\, Bengaluru- 560024
CATEGORIES:In-person Event,Partner Organisation Event
ATTACH;FMTTYPE=image/png:https://www.bengalurusustainabilityforum.org/wp-content/uploads/2024/10/Screenshot-2024-10-07-at-11.12.27.png
END:VEVENT
BEGIN:VEVENT
DTSTART;TZID=Asia/Kolkata:20241013T100000
DTEND;TZID=Asia/Kolkata:20241013T170000
DTSTAMP:20260424T013818
CREATED:20241004T040908Z
LAST-MODIFIED:20241004T041237Z
UID:11457-1728813600-1728838800@www.bengalurusustainabilityforum.org
SUMMARY:Untethered Cities: A Futures Literacy Lab in Bengaluru ~
DESCRIPTION:Bengaluru with its trees\, congested roads\, and fascinating history has meant so many things to so many people. But what do we want it to be tomorrow\, or a year from now\, a century from now? \nJoin DarknLight & Converging Minds  with two excellent facilitators\, Siddhi Ashar and Kushal Sohal\, as they explore this question\, with a special focus on time and mobility\, drawing from history and art\, our memories\, and the depths of our imaginations. Together\, you will unpack our assumptions about the city’s prospects\, develop different scenarios for Bengaluru’s future\, and ideate what actions we can take in the present to realise our collective vision for the city. \nREGISTER NOW!
URL:https://www.bengalurusustainabilityforum.org/event/untethered-cities-a-futures-literacy-lab-in-bengaluru/
LOCATION:Bangalore International Centre\, 7\, 4th Main Rd\, Stage 2\, Domlur\, Bengaluru\, Karnataka 560071
CATEGORIES:External event,In-person Event
ATTACH;FMTTYPE=image/jpeg:https://www.bengalurusustainabilityforum.org/wp-content/uploads/2024/10/Untethered-Cities-Anjali-Alappat-scaled-e1728014871850.jpg
ORGANIZER;CN="Dark n Light":MAILTO:social@darknlight.com
END:VEVENT
BEGIN:VEVENT
DTSTART;TZID=Asia/Kolkata:20241019T070000
DTEND;TZID=Asia/Kolkata:20241019T090000
DTSTAMP:20260424T013818
CREATED:20240914T093733Z
LAST-MODIFIED:20240914T093733Z
UID:11174-1729321200-1729328400@www.bengalurusustainabilityforum.org
SUMMARY:Spot Medicinal Plant Walk ~ by ATREE
DESCRIPTION:Join this interesting walk at Jakkur Lake and learn how to spot medicinal plants around you. This walk will be guided by R Ganesh\, ATREE \nREGISTER NOW!
URL:https://www.bengalurusustainabilityforum.org/event/spot-medicinal-plant-walk-by-atree/
LOCATION:Jakkuru Lake
CATEGORIES:External event,In-person Event
ATTACH;FMTTYPE=image/png:https://www.bengalurusustainabilityforum.org/wp-content/uploads/2024/09/Screenshot-2024-09-14-at-14.44.22.png
END:VEVENT
BEGIN:VEVENT
DTSTART;TZID=Asia/Kolkata:20241027T081500
DTEND;TZID=Asia/Kolkata:20241027T121500
DTSTAMP:20260424T013818
CREATED:20240914T083727Z
LAST-MODIFIED:20240914T083858Z
UID:11152-1730016900-1730031300@www.bengalurusustainabilityforum.org
SUMMARY:ecoXplorers 2024 Inter-College Quiz Competition ~ by APU
DESCRIPTION:Calling all college students! \nJoin the second edition of ecoXplorers\, an inter-college quiz competition that challenges your knowledge on environment and climate issues. The event will be a great opportunity to test your skills\, learn something new\, and connect with like- minded nature enthusiasts. \nGet your team of 3 and REGISTER NOW!
URL:https://www.bengalurusustainabilityforum.org/event/ecoxplorers-2024-inter-college-quiz-competition-by-apu/
LOCATION:Good Shepherd Auditorium\, Museum Road\, Bengaluru\, India
CATEGORIES:In-person Event,Partner Organisation Event
ATTACH;FMTTYPE=image/jpeg:https://www.bengalurusustainabilityforum.org/wp-content/uploads/2024/09/ecoXplorers_Carousel_3-APU-scaled.jpg
END:VEVENT
BEGIN:VEVENT
DTSTART;TZID=Asia/Kolkata:20241030T190000
DTEND;TZID=Asia/Kolkata:20241030T204500
DTSTAMP:20260424T013818
CREATED:20241028T182510Z
LAST-MODIFIED:20241028T183101Z
UID:11758-1730314800-1730321100@www.bengalurusustainabilityforum.org
SUMMARY:Ditty | Make Forests Not War
DESCRIPTION:Ditty is an Indian singer songwriter based in Berlin\, Germany. Trained in architecture and ecology\, she writes songs inspired by the natural world. \nIn 2019\, she released her first album called Poetry Ceylon that spoke about her life on the island of Sri Lanka and her relationships with birds\, trees\, the ocean\, the forests and herself. \nSoon after\, she created India’s first carbon neutral tour\, Make Forests Not War. This tour was aimed to be carbon neutral\, post which she planted a local\, indigenous food forest with the help of local environmentalists in Goa. The singer-songwriter traveled by train to 9 cities across the country\, singing earth-songs in gardens. She collaborated with local environmentalists to start important conversations around climate change\, sacred ecology\, communal regeneration and transformation \nThe programme will begin with a screening of Ditty’s documentary film Make Forests Not War\, followed by a conversation on all things musical and ecological. She will then be sharing songs– both old and new! \nRSVP here
URL:https://www.bengalurusustainabilityforum.org/event/ditty-make-forests-not-war/
LOCATION:Bangalore International Centre\, 7\, 4th Main Rd\, Stage 2\, Domlur\, Bengaluru\, Karnataka 560071
CATEGORIES:External event,In-person Event
ATTACH;FMTTYPE=image/png:https://www.bengalurusustainabilityforum.org/wp-content/uploads/2024/10/make-forests.png
END:VEVENT
END:VCALENDAR