BEGIN:VCALENDAR
VERSION:2.0
PRODID:-//Bengaluru Sustainability Forum - ECPv6.5.0//NONSGML v1.0//EN
CALSCALE:GREGORIAN
METHOD:PUBLISH
X-WR-CALNAME:Bengaluru Sustainability Forum
X-ORIGINAL-URL:https://www.bengalurusustainabilityforum.org
X-WR-CALDESC:Events for Bengaluru Sustainability Forum
REFRESH-INTERVAL;VALUE=DURATION:PT1H
X-Robots-Tag:noindex
X-PUBLISHED-TTL:PT1H
BEGIN:VTIMEZONE
TZID:Asia/Kolkata
BEGIN:STANDARD
TZOFFSETFROM:+0530
TZOFFSETTO:+0530
TZNAME:IST
DTSTART:20240101T000000
END:STANDARD
END:VTIMEZONE
BEGIN:VEVENT
DTSTART;TZID=Asia/Kolkata:20241113T090000
DTEND;TZID=Asia/Kolkata:20241126T170000
DTSTAMP:20260424T002105
CREATED:20240914T090728Z
LAST-MODIFIED:20240914T090728Z
UID:11162-1731488400-1732640400@www.bengalurusustainabilityforum.org
SUMMARY:Mountains of Life ~ by Azim Premji University
DESCRIPTION:Celebrate nature and understand sustainability and climate change issues through a trilingual\, multi-sensorial and immersive festival! \nImmerse yourselves in stories of mountains from India and around the world\, alongside art installations\, cultural performances\, movies\, installations\, artefacts\, interactive workshops and more! \nOpen to schools\, colleges\, organisations and the public. Advance Registration required. \nREGISTER NOW!
URL:https://www.bengalurusustainabilityforum.org/event/mountains-of-life-by-azim-premji-university/
LOCATION:Azim Premji University\, Burugunte Village\, Survey No 66\, Bikkanahalli Main Rd\, Sarjapura\, Bengaluru\, Karnataka\, 562125\, India
CATEGORIES:In-person Event,Partner Organisation Event
ATTACH;FMTTYPE=image/jpeg:https://www.bengalurusustainabilityforum.org/wp-content/uploads/2024/09/mol_poster-03-APU--scaled.jpg
END:VEVENT
BEGIN:VEVENT
DTSTART;VALUE=DATE:20241122
DTEND;VALUE=DATE:20241205
DTSTAMP:20260424T002105
CREATED:20241106T044625Z
LAST-MODIFIED:20241106T045158Z
UID:11767-1732233600-1733356799@www.bengalurusustainabilityforum.org
SUMMARY:ALL LIVING THINGS - Environmental Film Festival 2024
DESCRIPTION:ALT EFF’s 2024 edition marks five years of driving large-scale climate action through the power of cinema\, inspiring us to understand our place and role on this shared planet.\nJoin the movement\, take charge\, and spark a ripple of change. \nThe All Living Things Environmental Film Festival (ALT EFF) curates impact storytelling and experiential learning that is accessible\, relevant to inspires awareness into action. Through pay-as-you-feel global online streaming & in-person community screenings\, they showcase untold stories of regeneration\, activism\, crisis and hope. \nBangalore screenings between November 22nd to December 4th\nKEY DETAILS ABOUT #ALTEFF2024:\n🎥 100+ live screening events pan-India + globally (Ireland\, Chile\, Costa Rica\, USA)\n🎥 72 films\n🎥 Streaming 🌏 online \nSEE | BOOK | REGISTER at www.alteff.in
URL:https://www.bengalurusustainabilityforum.org/event/all-living-things-environmental-film-festival-2024/
CATEGORIES:External event,Hybrid Event
ATTACH;FMTTYPE=image/png:https://www.bengalurusustainabilityforum.org/wp-content/uploads/2024/11/alteff.png
END:VEVENT
BEGIN:VEVENT
DTSTART;TZID=Asia/Kolkata:20241124T103000
DTEND;TZID=Asia/Kolkata:20241124T120000
DTSTAMP:20260424T002105
CREATED:20241120T063016Z
LAST-MODIFIED:20241120T063016Z
UID:11988-1732444200-1732449600@www.bengalurusustainabilityforum.org
SUMMARY:Stupendous Spiders ~ earlybird India
DESCRIPTION:Do all spiders build webs? Do they dance and court their partners? Do they use mimicry and camouflage to survive? Vena will explore these questions and more\, and hope that your spider senses will get sufficiently tingled! \nThis interactive session will introduce you to the curious and fascinating life of some of the spiders that live alongside us. Peek into their world to get to know some of their bizarre and amazing traits and behaviour. \nREGISTER NOW!
URL:https://www.bengalurusustainabilityforum.org/event/stupendous-spiders-earlybird-india/
LOCATION:Zoom Webinar
CATEGORIES:External event,Online Event
ATTACH;FMTTYPE=image/png:https://www.bengalurusustainabilityforum.org/wp-content/uploads/2024/11/Vena-spiders.png
END:VEVENT
BEGIN:VEVENT
DTSTART;TZID=Asia/Kolkata:20241130T070000
DTEND;TZID=Asia/Kolkata:20241130T090000
DTSTAMP:20260424T002105
CREATED:20240914T093249Z
LAST-MODIFIED:20241125T065658Z
UID:11165-1732950000-1732957200@www.bengalurusustainabilityforum.org
SUMMARY:Water Testing Walk ~ by ATREE
DESCRIPTION:Join this walk at the Jakkuru lake – guided by Priyanka Jamwal of ATREE \nREGISTER NOW
URL:https://www.bengalurusustainabilityforum.org/event/water-testing-walk-by-atree/
LOCATION:Jakkuru Lake
CATEGORIES:External event,In-person Event
ATTACH;FMTTYPE=image/png:https://www.bengalurusustainabilityforum.org/wp-content/uploads/2024/09/Screenshot-2024-11-25-at-12.09.37.png
END:VEVENT
BEGIN:VEVENT
DTSTART;TZID=Asia/Kolkata:20241130T080000
DTEND;TZID=Asia/Kolkata:20241130T170000
DTSTAMP:20260424T002105
CREATED:20241118T135034Z
LAST-MODIFIED:20241118T135034Z
UID:11915-1732953600-1732986000@www.bengalurusustainabilityforum.org
SUMMARY:Courses in Conservation Leadership 2025 ~ NCF India
DESCRIPTION:NCF India is offering a wonderful set of courses to address the lack of adequate formal training in inter-disciplinary conservation research and  practice\, which is essential  to create a strong cadre of well-trained and motivated conservation leaders and practitioners. The courses in Conservation Leadership are meant for Indian conservation practitioners and span essential conservation skills including project planning\, fund raising\, monitoring and evaluation of programmes\, effective stakeholder engagement\, and effective communication. \nThe courses aim to assist conservation practitioners in finding the best solutions to help them in their work. Read more on the courses here. \nClick here for specific course links to REGISTER NOW before 30 Nov. 
URL:https://www.bengalurusustainabilityforum.org/event/courses-in-conservation-leadership-2025-ncf-india/
CATEGORIES:External event,In-person Event
ATTACH;FMTTYPE=image/jpeg:https://www.bengalurusustainabilityforum.org/wp-content/uploads/2024/11/ncfindia_2024-11-14_hqjkfoga_CCL-Poster-2025.jpeg
ORGANIZER;CN="Nature Conservation Foundation":MAILTO:apply@ncf-india.org
END:VEVENT
END:VCALENDAR