BEGIN:VCALENDAR
VERSION:2.0
PRODID:-//Bengaluru Sustainability Forum - ECPv6.5.0//NONSGML v1.0//EN
CALSCALE:GREGORIAN
METHOD:PUBLISH
X-WR-CALNAME:Bengaluru Sustainability Forum
X-ORIGINAL-URL:https://www.bengalurusustainabilityforum.org
X-WR-CALDESC:Events for Bengaluru Sustainability Forum
REFRESH-INTERVAL;VALUE=DURATION:PT1H
X-Robots-Tag:noindex
X-PUBLISHED-TTL:PT1H
BEGIN:VTIMEZONE
TZID:Asia/Kolkata
BEGIN:STANDARD
TZOFFSETFROM:+0530
TZOFFSETTO:+0530
TZNAME:IST
DTSTART:20240101T000000
END:STANDARD
END:VTIMEZONE
BEGIN:VEVENT
DTSTART;VALUE=DATE:20240901
DTEND;VALUE=DATE:20240923
DTSTAMP:20260424T041246
CREATED:20240918T125229Z
LAST-MODIFIED:20240918T125229Z
UID:11214-1725148800-1727049599@www.bengalurusustainabilityforum.org
SUMMARY:Creative Expressions ~ by India's Nature
DESCRIPTION:Two concurrent events celebrating the artistic and ecological wonders of India’s natural world. \nCreative Expressions: Monsoon Beauty This event invites you to explore the rich tapestry of India’s monsoon season\, with a focus on folklore\, biodiversity\, culture\, myths\, and legends\, all with nature & monsoons as the crosscutting theme. We encourage submissions in visual arts\, literature\, and crafts that reflect the monsoon’s impact on the environment\, biodiversity\, cultural traditions\, and the stories that have shaped our understanding of this vital season. \nBeetle Mania: Artistic Expressions of Indian Beetles Delve into the captivating world of beetles by contributing your creative works that highlight their ecological significance\, folklore\, and the myths and legends surrounding these incredible insects. Whether through art\, writing\, or craft\, this event celebrates the diversity and importance of beetles in India’s ecosystems. \nSUBMIT YOUR ENTRIES NOW! \n 
URL:https://www.bengalurusustainabilityforum.org/event/creative-expressions-by-indias-nature/
CATEGORIES:External event,Online Event
ATTACH;FMTTYPE=image/png:https://www.bengalurusustainabilityforum.org/wp-content/uploads/2024/09/till22sep-Indias-nature.png
ORGANIZER;CN="India's Nature":MAILTO:indiasnature01@gmail.com
END:VEVENT
END:VCALENDAR