BEGIN:VCALENDAR
VERSION:2.0
PRODID:-//Bengaluru Sustainability Forum - ECPv6.5.0//NONSGML v1.0//EN
CALSCALE:GREGORIAN
METHOD:PUBLISH
X-ORIGINAL-URL:https://www.bengalurusustainabilityforum.org
X-WR-CALDESC:Events for Bengaluru Sustainability Forum
REFRESH-INTERVAL;VALUE=DURATION:PT1H
X-Robots-Tag:noindex
X-PUBLISHED-TTL:PT1H
BEGIN:VTIMEZONE
TZID:Asia/Kolkata
BEGIN:STANDARD
TZOFFSETFROM:+0530
TZOFFSETTO:+0530
TZNAME:IST
DTSTART:20240101T000000
END:STANDARD
END:VTIMEZONE
BEGIN:VEVENT
DTSTART;TZID=Asia/Kolkata:20240927T093000
DTEND;TZID=Asia/Kolkata:20240927T170000
DTSTAMP:20260424T040755
CREATED:20240918T125957Z
LAST-MODIFIED:20240918T125957Z
UID:11218-1727429400-1727456400@www.bengalurusustainabilityforum.org
SUMMARY:Navigating Sustainability with Life Cycle Assessment
DESCRIPTION:Learn about life cycle assessment (LCA) and how it can be applied to assess an in-depth environmental impact of any product or good; thereby enabling informed decision-making and the development of effective sustainability and climate change strategies. \nOpen to mid-career researchers studying\, working\, or interested in the fields of sustainability\, circular economy\, and sustainable development.
URL:https://www.bengalurusustainabilityforum.org/event/navigating-sustainability-with-life-cycle-assessment/
LOCATION:IIHS Bangalore City Campus\, Sadashiva Nagar
CATEGORIES:BSF event,In-person Event
ATTACH;FMTTYPE=image/png:https://www.bengalurusustainabilityforum.org/wp-content/uploads/2024/09/final_venue-updated.png
ORGANIZER;CN="Bengaluru Sustainability Forum":MAILTO:bsf@ncbs.res.in
END:VEVENT
END:VCALENDAR