BEGIN:VCALENDAR
VERSION:2.0
PRODID:-//Bengaluru Sustainability Forum - ECPv6.5.0//NONSGML v1.0//EN
CALSCALE:GREGORIAN
METHOD:PUBLISH
X-ORIGINAL-URL:https://www.bengalurusustainabilityforum.org
X-WR-CALDESC:Events for Bengaluru Sustainability Forum
REFRESH-INTERVAL;VALUE=DURATION:PT1H
X-Robots-Tag:noindex
X-PUBLISHED-TTL:PT1H
BEGIN:VTIMEZONE
TZID:Asia/Kolkata
BEGIN:STANDARD
TZOFFSETFROM:+0530
TZOFFSETTO:+0530
TZNAME:IST
DTSTART:20240101T000000
END:STANDARD
END:VTIMEZONE
BEGIN:VEVENT
DTSTART;TZID=Asia/Kolkata:20241113T090000
DTEND;TZID=Asia/Kolkata:20241126T170000
DTSTAMP:20260424T003445
CREATED:20240914T090728Z
LAST-MODIFIED:20240914T090728Z
UID:11162-1731488400-1732640400@www.bengalurusustainabilityforum.org
SUMMARY:Mountains of Life ~ by Azim Premji University
DESCRIPTION:Celebrate nature and understand sustainability and climate change issues through a trilingual\, multi-sensorial and immersive festival! \nImmerse yourselves in stories of mountains from India and around the world\, alongside art installations\, cultural performances\, movies\, installations\, artefacts\, interactive workshops and more! \nOpen to schools\, colleges\, organisations and the public. Advance Registration required. \nREGISTER NOW!
URL:https://www.bengalurusustainabilityforum.org/event/mountains-of-life-by-azim-premji-university/
LOCATION:Azim Premji University\, Burugunte Village\, Survey No 66\, Bikkanahalli Main Rd\, Sarjapura\, Bengaluru\, Karnataka\, 562125\, India
CATEGORIES:In-person Event,Partner Organisation Event
ATTACH;FMTTYPE=image/jpeg:https://www.bengalurusustainabilityforum.org/wp-content/uploads/2024/09/mol_poster-03-APU--scaled.jpg
END:VEVENT
BEGIN:VEVENT
DTSTART;VALUE=DATE:20241122
DTEND;VALUE=DATE:20241205
DTSTAMP:20260424T003445
CREATED:20241106T044625Z
LAST-MODIFIED:20241106T045158Z
UID:11767-1732233600-1733356799@www.bengalurusustainabilityforum.org
SUMMARY:ALL LIVING THINGS - Environmental Film Festival 2024
DESCRIPTION:ALT EFF’s 2024 edition marks five years of driving large-scale climate action through the power of cinema\, inspiring us to understand our place and role on this shared planet.\nJoin the movement\, take charge\, and spark a ripple of change. \nThe All Living Things Environmental Film Festival (ALT EFF) curates impact storytelling and experiential learning that is accessible\, relevant to inspires awareness into action. Through pay-as-you-feel global online streaming & in-person community screenings\, they showcase untold stories of regeneration\, activism\, crisis and hope. \nBangalore screenings between November 22nd to December 4th\nKEY DETAILS ABOUT #ALTEFF2024:\n🎥 100+ live screening events pan-India + globally (Ireland\, Chile\, Costa Rica\, USA)\n🎥 72 films\n🎥 Streaming 🌏 online \nSEE | BOOK | REGISTER at www.alteff.in
URL:https://www.bengalurusustainabilityforum.org/event/all-living-things-environmental-film-festival-2024/
CATEGORIES:External event,Hybrid Event
ATTACH;FMTTYPE=image/png:https://www.bengalurusustainabilityforum.org/wp-content/uploads/2024/11/alteff.png
END:VEVENT
END:VCALENDAR