BEGIN:VCALENDAR
VERSION:2.0
PRODID:-//Bengaluru Sustainability Forum - ECPv6.5.0//NONSGML v1.0//EN
CALSCALE:GREGORIAN
METHOD:PUBLISH
X-WR-CALNAME:Bengaluru Sustainability Forum
X-ORIGINAL-URL:https://www.bengalurusustainabilityforum.org
X-WR-CALDESC:Events for Bengaluru Sustainability Forum
REFRESH-INTERVAL;VALUE=DURATION:PT1H
X-Robots-Tag:noindex
X-PUBLISHED-TTL:PT1H
BEGIN:VTIMEZONE
TZID:Asia/Kolkata
BEGIN:STANDARD
TZOFFSETFROM:+0530
TZOFFSETTO:+0530
TZNAME:IST
DTSTART:20250101T000000
END:STANDARD
END:VTIMEZONE
BEGIN:VEVENT
DTSTART;VALUE=DATE:20250111
DTEND;VALUE=DATE:20250217
DTSTAMP:20260423T213404
CREATED:20241230T113546Z
LAST-MODIFIED:20250103T073122Z
UID:12387-1736553600-1739750399@www.bengalurusustainabilityforum.org
SUMMARY:Certified Citizen Naturalist course ~ The Naturalist School
DESCRIPTION:Announcing the Citizen Naturalist course! Our much awaited course is now open for registrations 🙂 \nThis programme provides citizens with essential knowledge and skills to observe\, document\, and share information about local biodiversity. Participants will gain hands-on experience in identification\, ecological understanding\, and conservation practices\, enabling them to act as advocates for natural heritage in their communities. \nThe course emphasizes practical fieldwork\, empowering participants to contribute to citizen science initiatives and environmental stewardship. It’s ideal for those looking to make a meaningful impact while connecting deeply with nature. \nThe course is recognised by the MoEF&CC (Ministry of Environment\, Forest and Climate Change)\, under Mission LiFE\, with the mission to nudge individual and community action to protect and preserve the environment.\nAPPLY NOW!
URL:https://www.bengalurusustainabilityforum.org/event/certified-citizen-naturalist-course-the-naturalist-school/
LOCATION:Hybrid
CATEGORIES:External event,Hybrid Event
ATTACH;FMTTYPE=image/jpeg:https://www.bengalurusustainabilityforum.org/wp-content/uploads/2025/01/3.jpg
END:VEVENT
BEGIN:VEVENT
DTSTART;TZID=Asia/Kolkata:20250119T080000
DTEND;TZID=Asia/Kolkata:20250119T093000
DTSTAMP:20260423T213404
CREATED:20250123T060430Z
LAST-MODIFIED:20250123T060539Z
UID:12759-1737273600-1737279000@www.bengalurusustainabilityforum.org
SUMMARY:Nature Walk
DESCRIPTION:Join an enriching Tree Walk and Citizen Science Workshop hosted by Terrum and Environmentalist Foundation of India (E.F.I). This session offers fascinating stories and fun facts about Bengaluru’s trees\, insights into why learning about trees matters\, an introduction to citizen science platforms like iNaturalist and SeasonWatch\, and a chance to connect with Bengaluru’s vibrant community of tree enthusiasts!
URL:https://www.bengalurusustainabilityforum.org/event/nature-walk/
LOCATION:G.K.V.K. Campus
CATEGORIES:External event,In-person Event
END:VEVENT
END:VCALENDAR