BEGIN:VCALENDAR
VERSION:2.0
PRODID:-//Bengaluru Sustainability Forum - ECPv6.5.0//NONSGML v1.0//EN
CALSCALE:GREGORIAN
METHOD:PUBLISH
X-ORIGINAL-URL:https://www.bengalurusustainabilityforum.org
X-WR-CALDESC:Events for Bengaluru Sustainability Forum
REFRESH-INTERVAL;VALUE=DURATION:PT1H
X-Robots-Tag:noindex
X-PUBLISHED-TTL:PT1H
BEGIN:VTIMEZONE
TZID:Asia/Kolkata
BEGIN:STANDARD
TZOFFSETFROM:+0530
TZOFFSETTO:+0530
TZNAME:IST
DTSTART:20240101T000000
END:STANDARD
END:VTIMEZONE
BEGIN:VEVENT
DTSTART;TZID=Asia/Kolkata:20250621T183000
DTEND;TZID=Asia/Kolkata:20250621T200000
DTSTAMP:20260423T193823
CREATED:20250618T090822Z
LAST-MODIFIED:20250618T090822Z
UID:26425-1750530600-1750536000@www.bengalurusustainabilityforum.org
SUMMARY:Sustainable Development and Policy | Panel Discussion at BIC
DESCRIPTION:  \nThis volume\, edited in honour of Professor Vinod Vyasulu (Editors: Sukhpal Singh\, Jyotsna Jha\, A. Indira\, and A.V. Arunkumar)\, brings together perspectives on three key drivers of sustainable development—institutions\, technology\, and finance—and how they intersect through public policy. \nFree Entry on a First Come First Served basis on RSVP and availability. \nRSVP Link
URL:https://www.bengalurusustainabilityforum.org/event/sustainable-development-and-policy-panel-discussion-at-bic/
LOCATION:Bangalore International Centre\, 7\, 4th Main Rd\, Stage 2\, Domlur\, Bengaluru\, Karnataka 560071
ATTACH;FMTTYPE=image/png:https://www.bengalurusustainabilityforum.org/wp-content/uploads/2025/06/Screenshot-2025-06-18-at-14.35.01.png
END:VEVENT
BEGIN:VEVENT
DTSTART;TZID=Asia/Kolkata:20250607T110000
DTEND;TZID=Asia/Kolkata:20250607T210000
DTSTAMP:20260423T193823
CREATED:20250603T103117Z
LAST-MODIFIED:20250603T103117Z
UID:26366-1749294000-1749330000@www.bengalurusustainabilityforum.org
SUMMARY:The Earth Remembers : Stories of Justice and Resilience
DESCRIPTION:Through performances\, films\, workshops and a quiz\, Bangalore International Centre has a line-up of nine engaging events that explore not only what’s vanishing but also what needs to be protected\, restored and re-rooted.
URL:https://www.bengalurusustainabilityforum.org/event/the-earth-remembers-stories-of-justice-and-resilience/
LOCATION:Bangalore International Centre\, 7\, 4th Main Rd\, Stage 2\, Domlur\, Bengaluru\, Karnataka 560071
CATEGORIES:External event,In-person Event
ATTACH;FMTTYPE=image/png:https://www.bengalurusustainabilityforum.org/wp-content/uploads/2025/06/Screenshot-88.png
END:VEVENT
BEGIN:VEVENT
DTSTART;TZID=Asia/Kolkata:20250601T110000
DTEND;TZID=Asia/Kolkata:20250601T123000
DTSTAMP:20260423T193823
CREATED:20250528T120058Z
LAST-MODIFIED:20250528T120058Z
UID:26301-1748775600-1748781000@www.bengalurusustainabilityforum.org
SUMMARY:Wolves of the Deccan
DESCRIPTION:This powerful presentation will trace the journey of the Deccan landscape\, its biodiversity and the changes it faces with a focus on the Indian wolf and the work carried out by the Deccan Conservation Foundation in the landscape.
URL:https://www.bengalurusustainabilityforum.org/event/wolves-of-the-deccan/
LOCATION:Bangalore International Centre\, 7\, 4th Main Rd\, Stage 2\, Domlur\, Bengaluru\, Karnataka 560071
CATEGORIES:External event,In-person Event
ATTACH;FMTTYPE=image/png:https://www.bengalurusustainabilityforum.org/wp-content/uploads/2025/05/Screenshot-76.png
END:VEVENT
BEGIN:VEVENT
DTSTART;TZID=Asia/Kolkata:20250125T180000
DTEND;TZID=Asia/Kolkata:20250125T193000
DTSTAMP:20260423T193823
CREATED:20250123T055227Z
LAST-MODIFIED:20250123T055227Z
UID:12756-1737828000-1737833400@www.bengalurusustainabilityforum.org
SUMMARY:
DESCRIPTION:Join the conversation to uncover the behind the scenes story of Bangalore International Airport\, the first Greenfield Airport in India. This session dives into the commitment towards environment and sustainability and the process to make an airport sustainable. \n 
URL:https://www.bengalurusustainabilityforum.org/event/12756/
LOCATION:Bangalore International Centre\, 7\, 4th Main Rd\, Stage 2\, Domlur\, Bengaluru\, Karnataka 560071
CATEGORIES:External event,In-person Event
END:VEVENT
BEGIN:VEVENT
DTSTART;TZID=Asia/Kolkata:20241218T183000
DTEND;TZID=Asia/Kolkata:20241218T200000
DTSTAMP:20260423T193823
CREATED:20241213T125935Z
LAST-MODIFIED:20241213T125935Z
UID:12116-1734546600-1734552000@www.bengalurusustainabilityforum.org
SUMMARY:From Dust to Dust ~ by BIC
DESCRIPTION:Situated on the hot and dry north Indian plains\, the city of Delhi has always lived with dust. But in the last three decades\, dust has transformed into a problem: air pollution. \nIn the world’s most polluted capital city\, debates about dust rise and subside like seasonal storms\, never quite becoming a public priority. Why? Despite its severe impacts on health\, why does air pollution become yet another element in a deteriorating urban environment to be borne and lived with\, rather than a public emergency that calls for urgent and drastic action? \nThis talk will address these questions by situating them within the cultural politics of environment and development. \nThis session is part of the Let’s Talk Climate Change Talk series. \nRSVP here
URL:https://www.bengalurusustainabilityforum.org/event/from-dust-to-dust-by-bic/
LOCATION:Bangalore International Centre\, 7\, 4th Main Rd\, Stage 2\, Domlur\, Bengaluru\, Karnataka 560071
CATEGORIES:External event,Online Event
ATTACH;FMTTYPE=image/png:https://www.bengalurusustainabilityforum.org/wp-content/uploads/2024/12/Screenshot-2024-12-13-at-18.26.53.png
END:VEVENT
BEGIN:VEVENT
DTSTART;TZID=Asia/Kolkata:20241030T190000
DTEND;TZID=Asia/Kolkata:20241030T204500
DTSTAMP:20260423T193823
CREATED:20241028T182510Z
LAST-MODIFIED:20241028T183101Z
UID:11758-1730314800-1730321100@www.bengalurusustainabilityforum.org
SUMMARY:Ditty | Make Forests Not War
DESCRIPTION:Ditty is an Indian singer songwriter based in Berlin\, Germany. Trained in architecture and ecology\, she writes songs inspired by the natural world. \nIn 2019\, she released her first album called Poetry Ceylon that spoke about her life on the island of Sri Lanka and her relationships with birds\, trees\, the ocean\, the forests and herself. \nSoon after\, she created India’s first carbon neutral tour\, Make Forests Not War. This tour was aimed to be carbon neutral\, post which she planted a local\, indigenous food forest with the help of local environmentalists in Goa. The singer-songwriter traveled by train to 9 cities across the country\, singing earth-songs in gardens. She collaborated with local environmentalists to start important conversations around climate change\, sacred ecology\, communal regeneration and transformation \nThe programme will begin with a screening of Ditty’s documentary film Make Forests Not War\, followed by a conversation on all things musical and ecological. She will then be sharing songs– both old and new! \nRSVP here
URL:https://www.bengalurusustainabilityforum.org/event/ditty-make-forests-not-war/
LOCATION:Bangalore International Centre\, 7\, 4th Main Rd\, Stage 2\, Domlur\, Bengaluru\, Karnataka 560071
CATEGORIES:External event,In-person Event
ATTACH;FMTTYPE=image/png:https://www.bengalurusustainabilityforum.org/wp-content/uploads/2024/10/make-forests.png
END:VEVENT
BEGIN:VEVENT
DTSTART;TZID=Asia/Kolkata:20240914T110000
DTEND;TZID=Asia/Kolkata:20240914T133000
DTSTAMP:20260423T193823
CREATED:20240909T071823Z
LAST-MODIFIED:20240909T085619Z
UID:11108-1726311600-1726320600@www.bengalurusustainabilityforum.org
SUMMARY:Rivers & People: A Disconnect in Times of Scarcity ~ by Paani.Earth
DESCRIPTION:Rivers & People: A Disconnect in Times of Scarcity\nCreating a Space to Think\, Ideate and Protect Rivers\nBengaluru\, India’s economic engine\, is a water-starved city. The Cauvery river\, its lifeline\, is drying up and severely polluted\, while the Western Ghats forests\, where its waters originate\, are rapidly degrading. Yet\, the government continues to push for unsound projects like the Mekedatu Dam and Yettinahole Drinking Water project\, further damaging the rivers and forests that sustain us. Amid this\, the city remains disconnected from its rivers\, yet perpetually thirsty. \nThis session will begin with a discussion followed by songs about rivers sung by children and an English adaptation of Komal Swaminathan’s 1980 satirical Tamil play Thaneer Thaneer. Set in a drought-ridden village in Tamil Nadu\, the play follows a stranger who helps the villagers harness water against political and natural challenges\, showing the power of a community deeply connected to its water sources. \nIt promises to be a valuable experience for anyone who cares about the environment\, our rivers\, and the future we are shaping for generations to come. \nRSVP Here \nPaani.Earth\, a citizen-led think tank\, is dedicated to river conservation. The team will share their efforts to protect the rivers that sustain us. Through this session\, they aim to foster a deep understanding and compassion for rivers — crucial for meaningful change. \nSpeakers and Performers \n\n\n\n\n\nNidhi Paliwal- Curator & Researcher\, Paani.Earth\nNirmala Gowda – Curator & Researcher\, Paani.Earth\nMadhuri Mandava – Curator & Researcher\, Paani.Earth\nKhushbu K Birawat – Curator & Researcher\, Paani.Earth\nGoodEarth Malhar Community Theatre Group
URL:https://www.bengalurusustainabilityforum.org/event/rivers-people-a-disconnect-in-times-of-scarcity-by-paani-earth/
LOCATION:Bangalore International Centre\, 7\, 4th Main Rd\, Stage 2\, Domlur\, Bengaluru\, Karnataka 560071
CATEGORIES:External event,In-person Event
ATTACH;FMTTYPE=image/png:https://www.bengalurusustainabilityforum.org/wp-content/uploads/2024/09/Screenshot-2024-09-09-at-12.44.15 PM.png
ORGANIZER;CN="Paani.Earth":MAILTO:paaniearth@gmail.com
END:VEVENT
BEGIN:VEVENT
DTSTART;TZID=Asia/Kolkata:20240914T090000
DTEND;TZID=Asia/Kolkata:20240914T170000
DTSTAMP:20260423T193823
CREATED:20240909T141011Z
LAST-MODIFIED:20240909T141232Z
UID:11113-1726304400-1726333200@www.bengalurusustainabilityforum.org
SUMMARY:The What\, How and Why of Lake Restoration ~ Azim Premji University
DESCRIPTION:Enough has been written and described about Bengaluru being the city of lakes and tanks. However\, many of these public spaces continue to be in disrepair despite the tremendous amount of work undertaken towards restoring lakes\, highlighting the need for more sustained efforts in this direction. Numerous initiatives have focussed on protecting Bengaluru’s lakes\, but these initiatives are often confronted with a lack of resources\, limited understanding of management policies\, and inadequate ecological considerations of outcomes. \nAs part of their initiatives on climate change and sustainability\, Azim Premji University is organising a one-day workshop on understanding the processes involved in lake restoration. We aim to provide a platform for communities to come together and learn about the importance of lake restoration\, and understand how to engage in restoration efforts. \nEngage in meaningful discussion and dialogue around lake restoration processes\, and learn from the experiences of communities that have succeeded in similar efforts. The workshop will include citizen groups\, ecologists\, researchers and practitioners experienced in the area of restoration of lakes. \nThe workshop will highlight the role of citizens and communities\, the collaboration of stakeholders including governments\, resident associations\, civil society groups\, and donors\, and will detail the various steps in lake restoration\, through conversations with experts involved in this journey for decades. In addition\, the workshop will underline the need for effective communication and dissemination to garner public support. \nRegister Now
URL:https://www.bengalurusustainabilityforum.org/event/the-what-how-and-why-of-lake-restoration-azim-premji-university/
LOCATION:Bangalore International Centre\, 7\, 4th Main Rd\, Stage 2\, Domlur\, Bengaluru\, Karnataka 560071
CATEGORIES:External event,In-person Event,Partner Organisation Event
ATTACH;FMTTYPE=image/png:https://www.bengalurusustainabilityforum.org/wp-content/uploads/2024/09/Lake-restoration_SM.png
END:VEVENT
END:VCALENDAR