BEGIN:VCALENDAR
VERSION:2.0
PRODID:-//Bengaluru Sustainability Forum - ECPv6.5.0//NONSGML v1.0//EN
CALSCALE:GREGORIAN
METHOD:PUBLISH
X-ORIGINAL-URL:https://www.bengalurusustainabilityforum.org
X-WR-CALDESC:Events for Bengaluru Sustainability Forum
REFRESH-INTERVAL;VALUE=DURATION:PT1H
X-Robots-Tag:noindex
X-PUBLISHED-TTL:PT1H
BEGIN:VTIMEZONE
TZID:Asia/Kolkata
BEGIN:STANDARD
TZOFFSETFROM:+0530
TZOFFSETTO:+0530
TZNAME:IST
DTSTART:20240101T000000
END:STANDARD
END:VTIMEZONE
BEGIN:VEVENT
DTSTART;TZID=Asia/Kolkata:20250622T073000
DTEND;TZID=Asia/Kolkata:20250622T090000
DTSTAMP:20260422T081131
CREATED:20250618T093547Z
LAST-MODIFIED:20250618T093547Z
UID:26447-1750577400-1750582800@www.bengalurusustainabilityforum.org
SUMMARY:Wild Food Walk by Shruti Tharayil
DESCRIPTION:Whether you’re a nature enthusiast\, culinary researcher\, wild food lover\, permaculturist\, nature educator\, or simply someone seeking a refreshing outdoor experience\, this walk by Forgotten Greens in meant for you! This walk offers an opportunity to connect with nature and learn about the wild edibles that grow in the city. \nRegister here
URL:https://www.bengalurusustainabilityforum.org/event/wild-food-walk-by-shruti-tharayil/
LOCATION:LalBagh\, Bengaluru
CATEGORIES:External event,In-person Event
ATTACH;FMTTYPE=image/png:https://www.bengalurusustainabilityforum.org/wp-content/uploads/2025/06/Wildfoodswalk-21Jun.png
END:VEVENT
BEGIN:VEVENT
DTSTART;TZID=Asia/Kolkata:20240831T073000
DTEND;TZID=Asia/Kolkata:20240831T100000
DTSTAMP:20260422T081131
CREATED:20240826T130318Z
LAST-MODIFIED:20240826T130327Z
UID:11038-1725089400-1725098400@www.bengalurusustainabilityforum.org
SUMMARY:The Lalbagh Trail ~ by KoraWalks
DESCRIPTION:Join this walk by Korawalks to explore the wonderful delights that Lalbagh holds for all of us. Be it the amazing biodiversity of trees\, plants\, flowers\, birds\, insects\, butterflies\, or the interesting history behind our beloved botanical garden. \nREGISTER NOW
URL:https://www.bengalurusustainabilityforum.org/event/the-lalbagh-trail-by-korawalks/
LOCATION:LalBagh\, Bengaluru
CATEGORIES:External event,In-person Event
ATTACH;FMTTYPE=image/jpeg:https://www.bengalurusustainabilityforum.org/wp-content/uploads/2024/08/The-Lalbagh-Trail-korawalks.jpeg
ORGANIZER;CN="Korawalks":MAILTO:korawalks@gmail.com
END:VEVENT
BEGIN:VEVENT
DTSTART;TZID=Asia/Kolkata:20240824T070000
DTEND;TZID=Asia/Kolkata:20240824T080000
DTSTAMP:20260422T081131
CREATED:20240821T041528Z
LAST-MODIFIED:20240821T041728Z
UID:10996-1724482800-1724486400@www.bengalurusustainabilityforum.org
SUMMARY:History Through Trees
DESCRIPTION:As part of the TN Khoshoo Memorial Walk series\, ATREE is conducting a tree walk event at Lalbagh Botanical Garden on August 24\, 2024. The walk will be guided by R. Ganesan\, Senior Fellow at ATREE. \nRegistration link
URL:https://www.bengalurusustainabilityforum.org/event/history-through-trees/
LOCATION:LalBagh\, Bengaluru
CATEGORIES:External event,In-person Event
ATTACH;FMTTYPE=image/jpeg:https://www.bengalurusustainabilityforum.org/wp-content/uploads/2024/08/atree-walk-scaled.jpg
END:VEVENT
END:VCALENDAR