BEGIN:VCALENDAR
VERSION:2.0
PRODID:-//Bengaluru Sustainability Forum - ECPv6.5.0//NONSGML v1.0//EN
CALSCALE:GREGORIAN
METHOD:PUBLISH
X-ORIGINAL-URL:https://www.bengalurusustainabilityforum.org
X-WR-CALDESC:Events for Bengaluru Sustainability Forum
REFRESH-INTERVAL;VALUE=DURATION:PT1H
X-Robots-Tag:noindex
X-PUBLISHED-TTL:PT1H
BEGIN:VTIMEZONE
TZID:Asia/Kolkata
BEGIN:STANDARD
TZOFFSETFROM:+0530
TZOFFSETTO:+0530
TZNAME:IST
DTSTART:20250101T000000
END:STANDARD
END:VTIMEZONE
BEGIN:VEVENT
DTSTART;TZID=Asia/Kolkata:20250621T180000
DTEND;TZID=Asia/Kolkata:20250621T200000
DTSTAMP:20260422T102309
CREATED:20250618T092016Z
LAST-MODIFIED:20250618T094145Z
UID:26428-1750528800-1750536000@www.bengalurusustainabilityforum.org
SUMMARY:Vana Katha by Nature in Focus
DESCRIPTION:This event is a celebration of Vanā Katha\, a storytelling initiative that highlights the diverse relationships between nature and culture across India. The evening will feature a curated exhibition of published stories\, showcases by contributing authors\, a panel discussion on the role of storytelling in preserving ecological and cultural heritage\, and the screening of a short documentary film. \nRSVP link or Scan the QR code
URL:https://www.bengalurusustainabilityforum.org/event/26428/
LOCATION:Prestige Falcon Towers\, Brunton Road\, Bangalore
CATEGORIES:External event,In-person Event
ATTACH;FMTTYPE=image/png:https://www.bengalurusustainabilityforum.org/wp-content/uploads/2025/06/VanaKatha_21.06.2025.png
END:VEVENT
END:VCALENDAR